Workbook

Sheet ABS
A1: Proposed Kannada Medium Building For Rashtrotthana Vidyalaya, Hagaribommanahalli, Hospet Dist, Karnataka.
A2: ABSTRACT
A3: Part | B3: Description of Items | C3: Unit | D3: Total
A4: ='P-1 SF'!A5 -> PART-1 | B4: ='P-1 SF'!B5 -> SANITARY FIXTURES | C4: Rs.
A6: ='P-2 INT'!A4 -> PART-2 | B6: ='P-2 INT'!B4 -> INTERNAL PIPING WORKS | C6: Rs.
A8: ='P-3 EXT WS'!A4 -> PART-3 | B8: ='P-3 EXT WS'!B4 -> EXTERNAL WATER SUPPLY PIPING | C8: Rs.
A10: ='P-4 EXT SAN'!A4 -> PART-4 | B10: ='P-4 EXT SAN'!B4 -> EXTERNAL SANITARY PIPING | C10: Rs.
A12: ='P-5 RW'!A4 -> PART-5 | B12: ='P-5 RW'!B4 -> RAIN WATER & STORM WATER SYSTEM | C12: Rs.
A14: ='P-6 PUMPS'!A4 -> PART-6 | B14: ='P-6 PUMPS'!B4 -> PUMPS AND EQUIPMENTS | C14: Rs.
B16: TOTAL COST OF WORKS | C16: Rs.
B18: GST - 18% | C18: Rs.
B20: TOTAL COST OF WORKS | C20: Rs.
B22: SUMMARY OF EXCLUSIONS
B23: Following items of work are not included in the BoQ:
A24: 1 | B24: RCC civil items like UG sump and Septic Tanks are not considered
A25: 2 | B25: PHE Control panel and Cables from panel to pumps not included, Panel and Cables are under Vender scope of work
A26: 3 | B26: WTP & STP Mechanical works costing is not included in boq, that will be separate BOQ
A27: 4 | B27: Drilling of Borewell water points, pumps for the same, cabling length from borewell pumps to the starter panel are not considered.
A28: 5 | B28: Toilet accessories not considered.
A29: 6 | B29: Landscape pump and piping works not considered.
A30: 7 | B30: External Storm water drain civil works not considered.

Sheet MOC
A1: =ABS!A1 -> Proposed Kannada Medium Building For Rashtrotthana Vidyalaya, Hagaribommanahalli, Hospet Dist, Karnataka.
A2: MATERIAL OF CONSTRUCTIONS
A3: Sl.No. | B3: Material Of Construction | D3: Application | E3: Material
A5: Piping
A7: 1 | B7: Water supply Pipes | C7: A | D7: Cold Water Supply (CWS)
C8: i | D8: Internal piping | E8: cPVC SDR 11
C9: ii | D9: Vertical shaft piping | E9: cPVC SDR 11
C10: iii | D10: Terrace piping | E10: cPVC SDR 11
C11: iv | D11: Pumping main from sump to OHT | E11: cPVC SDR 11
A13: 2 | B13: Sanitary pipes | C13: a | D13: Internal piping - Soil & Waste line | E13: PVC SWR Type 'B' Solvent Cement joint
C14: b | D14: Internal piping - Wash basin waste line | E14: Rigid PVC Pipes PN6
C15: d | D15: Vertical shaft piping | E15: PVC SWR Type 'B' Rubber ring joint
C16: e | D16: Burried piping | E16: ECO Drain SN4
A18: 3 | B18: Rain water pipes | C18: a | D18: Vertical shaft piping | E18: PVC SWR Type 'A' Rubber ring joint
C19: c | D19: Buried piping | E19: DWC Pipe SN4
A21: Control Appurtenances
A23: 1 | B23: Control Valves | C23: a | D23: Master control inside Toilets, Kitchen & Utility | E23: Ball valve
C24: b | D24: All water lines upto 50mm dia size | E24: Ball valve
C25: c | D25: All water lines from 65mm and above sizes | E25: Butterfly valve
A27: 2 | B27: Float Valves | C27: b | D27: Municipal water inlet at water sump | E27: Ball type Float valve
A29: 3 | B29: Non Return valves | C29: a | D29: All water lines upto 50mm dia size | E29: Axial type Reflux valve
C30: b | D30: All water lines from 65mm and above sizes | E30: Wafer type Reflux valve
A32: 4 | B32: Air Release valve | C32: a | D32: All upfeed vertical water lines | E32: Brass Air vent
A34: 6 | B34: Strainers | C34: a | D34: At the OHT outlet | E34: Basket / Y / Bottle strainer - CI / ABS
A36: Traps & Gratings
A38: 1 | B38: Floor traps | C38: a | D38: Kitchen & Utility | E38: 125mm deep multi floor trap
C39: b | D39: Toilets | E39: 175mm deep multi floor trap
A42: 2 | B42: Grating | C42: a | D42: Grating for all floor traps in Toilets & Utility | E42: SS frame & grating
C43: b | D43: Grating for Balconies | E43: PVC grating 75mm dia size
A45: 3 | B45: Rain water Gratings | C45: a | D45: At Terrace | E45: CI, Side wall parapet and dome type grating
C46: b | D46: Landscpae drain point | E46: Aluminium body, Dome type grating
A47: Frame & cover
A48: 1 | B48: Frame & Cover | C48: a | D48: Sump. | E48: 600x600mm Medium Duty (MD10 / ) FRP Frame & cover with double air seal.

Sheet Makes
A1: =ABS!A1 -> Proposed Kannada Medium Building For Rashtrotthana Vidyalaya, Hagaribommanahalli, Hospet Dist, Karnataka.
A2: APPROVED MAKE OF MATERIALS - PHE
A3: Sl. No. | B3: Description of Items | C3: Prefered make
A5: A | B5: PIPES, FITTINGS, INSULATION, TRAPS | C5: Options
C6: 1 | D6: 2 | E6: 3 | F6: 4
A7: 1 | B7: CPVC Pipes, fittings & solvent | C7: Truflo | D7: Supreme | E7: Astral | F7: Birlanu
A9: 2 | B9: uPVC Pipes, fittings & solvent | C9: Truflo | D9: Supreme | E9: Astral | F9: Birlanu
A11: 3 | B11: PVC SWR Pipes & fittings, | C11: Truflo | D11: Supreme | E11: Astral | F11: Birlanu
A13: 4 | B13: Rigid PVC pipes | C13: Truflo | D13: Supreme | E13: Astral | F13: Birlanu
A15: 6 | B15: GI Pipes | C15: TATA | D15: Jindal
A17: 7 | B17: GI Fittings | C17: Unik | D17: R'
A19: B | B19: VALVES & METERS
A21: 1 | B21: Ball valve | C21: Lehry | D21: Cimberio | E21: RB | F21: Zalloto
A23: 2 | B23: Butterfly valve | C23: Lehry | D23: Cimberio | E23: RB | F23: Zalloto
A25: 3 | B25: Non return valve- Axial | C25: Lehry | D25: Cimberio | E25: RB | F25: Zalloto
A27: 4 | B27: Non return valve- Wafer | C27: Lehry | D27: Cimberio | E27: RB | F27: Zalloto
A29: 5 | B29: Brass Strainer | C29: Lehry | D29: Cimberio | E29: RB | F29: Zalloto
A31: 6 | B31: CI Strainer | C31: Lehry | D31: Cimberio | E31: RB | F31: Zalloto
A33: 7 | B33: Non modulating float valve | C33: Singer | D33: Danfoss | E33: Lehry
A35: 9 | B35: Float valve | C35: Neta | D35: Leader | E35: Lehry
A37: 10 | B37: Brass Pressure Reducing Valve | C37: Cimberio | D37: RB | E37: Lehry | F37: Hawk
A39: 11 | B39: Air vent | C39: Lehry | D39: Cimberio | E39: Varie
A41: 12 | B41: Water meter- Singlejet | C41: Lehry | D41: Aquamet | E41: Dashmesh
A43: 13 | B43: Water meter- Multijet | C43: Lehry | D43: Aquamet | E43: Itron | F43: mesh
A45: C | B45: CLAMPS, FLANGES, RUNGS
A47: 1 | B47: Pipe supports | C47: Hitech | D47: Chilly
A49: 2 | B49: GI sheet metal brackets | C49: Kaveri | D49: Fixotech
A51: 4 | B51: CI Foot Rungs | C51: Neco | D51: BIC
A53: 4 | B53: CI Foot Rungs PVC encapsulated | C53: BIC | D53: Neco | E53: Neco
A55: D | B55: GRATINGS, COVERS
A57: 1 | B57: SS Grating | C57: Chilly | D57: Camry
A59: 2 | B59: Side wall parapet grating | C59: NEER | D59: GMGR | E59: Sri Vinayaka
A61: 3 | B61: Dome shaped parapet grating | C61: NEER | D61: GMGR | E61: Sri Vinayaka
C62: GMGR
A64: 4 | B64: CI Drain points | C64: NEER | D64: GMGR | E64: Sri Vinayaka
A66: 5 | B66: SFRC Frame & cover | C66: Rajvaibhav | D66: Nu tech | E66: KKLD
A68: 6 | B68: CI Frame & cover | C68: Neco | D68: BIC
A70: 7 | B70: FRP Frame & cover | C70: Thermo Drain | D70: Everlast | E70: Aagam
A72: E | B72: PUMPS & CONTROLLERS
A74: 1 | B74: Hydro pneumatic pumps | C74: Grundfos | D74: Kirloskar | E74: CRI | F74: KSB
...

Sheet P-1 SF
A1: =ABS!A1:D1 -> Proposed Kannada Medium Building For Rashtrotthana Vidyalaya, Hagaribommanahalli, Hospet Dist, Karnataka.
A2: PLUMBING & SANITARY SYSTEM BOQ
A3: Sl. No | B3: Description of Items | C3: Unit | D3: Qty | E3: Rate | F3: Amount
A5: PART-1 | B5: SANITARY FIXTURES
A7: 1 | B7: Supplying and fixing in position Wall mounted European water closet and fixed to wall with necessary CI / MS chair bracket, GI bolts & nuts, WC connector with rubber gaskets as per manufacturer's specifications, including cutting and making good the walls & floorings. etc. complete. Fixing matching colour solid plastic seat & cover. 40mm/32mm Concealed puchcock immediate releasing spring type having all parts made of corrosion resistant materials and with necessary piping from flush valve to the water closet as per water closet manufacturer's specification for satisfactory operation of system. The top cover plate shall be made of engineering plastic with CP finish / brass with CP finish / polished SS and the flush actuation plate preferably be of square / circular shape with central push button, with necessary 32mm diameter GI/ Threaded PVC piping not exceeding 1m in length from flush valve to water closet for satisfactory operation of system. | C7: Nos. | D7: 6
A9: 2 | B9: Supplying and fixing in position CP brass Health faucet cum angle cock assembly conforming to IS specifications, comprising of: | C9: Nos. | D9: =D7 -> 6
B10: 15mm CP brass Angle cock with heavy casted CP brass wall flange.
B11: One CP brass Health faucet with 1m flexible tube of 10mm size.
B12: Complete all as specified & directed with necessary fittings.
A14: 3 | B14: Supplying and fixing in position Indian type water closet suite (Orissa pan) with PVC 'P' or 'S' trap comprising of: | C14: Nos. | D14: RO
B15: Glazed vitreous chinaware Orissa pan of size 580x440mm with trap as mentioned above fixed in floor including cutting & making good the walls & floorings, etc.
B16: 25mm flush cock immediate releasing spring type having all parts made of corrosion resistant materials with necessary piping from flush cock to the water closet as per water closet manufacturer's specification for satisfactory operation of system.The top cover plate shall be made of engineering plastic with CP finsh / brass with CP finish / polished SS, with necessary 25m diameter GI / Threaded PVC piping not exceeding 1m in length from flush cock to water closet for satisfactory operation of system.
A18: 4 | B18: Supplying and fixing in position wash basin with CP bottle trap / 'P' trap, one hole basin mixer with angle valves. supported on MS / CI brackets. The gap between the counter and the top of the basin shall in no case exceed 5mm, silicone sealant shall be applied to the top of the basin before fixing in position so as to completely seal the gap. The excess sealant shall be wiped out using a clean blade flush with the basin inner profile. Including providing and fixing of 40mm PVC waste pipe with specials from extension piece of bottle trap to the floor trap, length not exceeding 1m concealed in the wall, including cutting and making good the floors and walls. | C18: Nos. | D18: RO
A20: 5 | B20: Supplying and fixing in position large flat back urinal & colour of size 600x400x375mm with necessary CI brackets & fixtures.CP brass distribution pipe & spreader to the urinals with necessary CP brass screws, specials, clamps, etc., one for each urinal. AC / DC battery operated sensor operated flushing system, exposed/concealed type with CP brass distribution pipe & spreader to the urinals with necessary CP brass screws, specials, clamps, etc.,one for each urinal. The rate includes necessary chasing the walls and redoing the same in CM 1:3 with necessary PVC conduits etc., complete.One 32mm CP dome type waste coupling, one 32mm medium quality GI waste pipe with specials from extension piece of the bottle trap to the floor trap length not exceeding 1m concealed in the wall, one 32mm heavy quality PVC waste pipe. | C20: Nos. | D20: 8
A22: 6 | B22: Supplying and fixing in position CP brass overhead shower with single flow concealed divertor, the shower nozzles shall be of non clogging design and with one CP 15mm heavy casted shower arm and wall flange. One CP brass single lever high flow divertor , with one 15mm CP brass heavy casted bath spout with button arrangement for telephone shower and telephone shower with 1.5m long flexible tube. | C22: Nos. | D22: RO
A24: 7 | B24: Supplying and fixing in position of Stainless steel kitchen sink with sink cock withwaste pipes supported on platform shall be installed by the civil / interior contractor. | C24: Nos. | D24: RO
A26: 9 | B26: Supplying and fixing in position approved make 15mm CP brass (long body) bib tap with heavy casted CP brass wall flange. | C26: Nos. | D26: 4
A28: 10 | B28: Supplying and fixing in position approved make 15mm CP brass (Short body) bib tap with heavy casted CP brass wall flange. | C28: Nos. | D28: 2
A30: 11 | B30: Supplying and fixing in position approved make 15mm CP brass Angle cock with heavy casted CP brass wall flange. | C30: Nos. | D30: RO
A32: 12 | B32: Supplying and fixing in position water heaters of any make and type along with an angle cock fixed on the inle side, with necessary bolts and nuts in the location as per drawing of the following mentioned capacities: | C32: Nos. | D32: RO
B33: Upto 25 lts capacity
A35: 13 | B35: Supplying and fixing in position of approved Aquaguard Purechill RO 80 PSS RO Based Storage Cooler Cum Purifier System makes the water both chemically and micro-biologically potable by reducing hardness, TDS, heavy metal contaminants like Arsenic, Lead Mercury and by removing pathogenic micro-organisms, provision with inlet & outlet complete fittings . | C35: Nos. | D35: 1
B37: Total for Part -1 | C37: Rs.

Sheet P-2 INT
A1: =ABS!A1:D1 -> Proposed Kannada Medium Building For Rashtrotthana Vidyalaya, Hagaribommanahalli, Hospet Dist, Karnataka.
A2: PLUMBING & SANITARY SYSTEM BOQ
A3: Sl. No | B3: Description of Items | C3: Unit | D3: Qty | E3: Rate | F3: Amount
A4: PART-2 | B4: INTERNAL PIPING WORKS
A6: 1 | B6: CPVC pipes for Domestic water
B7: Supplying and fixing CPVC pipes SDR 11 in wall with solvent joints including fixing like tees, elbows, bends, reducers, coupling, running joints, union flanges etc., with necessary excavation in all types of soils except rock requiring blasting, refilling chasing walls, chasing masonry and making good the walls and floors to the original surface ans fixing CPVC clamps on walls including cost and conveyance of all materials to site, labor charges, sales and other taxes on all materials etc., complete for finished item of work for all floors.
B8: The entire piping system in part or as a whole has to be tested to a hydraulic test pressure of 7 kg/sq.cm for a period of not less than 24 hours. the piping shall be concealed / commissioned only after satisfactory testing of the system.
A9: a | B9: 20 mm n.b. | C9: m | D9: 15
A10: b | B10: 25 mm n.b. | C10: m | D10: 16
A11: c | B11: 32 mm n.b | C11: m | D11: 12
A12: d | B12: 40 mm n.b | C12: m | D12: 10
A14: 2 | B14: uPVC SCH 40 for Flush water
B15: Providing, laying, jointing, fixing, testing, commissioning threaded PVC pipes schedule 40 conforming to ASTM - 1785 with threaded fittings or ASTM solvent weld fittings conforming to Schedule 40 (of Supreme make), cutting the pipes to the required lengths, jointing the pipes by threading using teflon tape or using solvent cement of approved make, chasing the walls, floors, making holes, clamping to walls / supports using fabricated MS brackets of approved design, MS threaded U clamps, HITECH pipe supports & restoring the walls & floors to the original conditions, necessary testing, refilling etc., complete all as specified and directed. The exposed pipes shall be provided with the necessary colour bands as specified. The buried to be provided with sand alround for 150mm thickness in the trench.complete all as specified and directed and as per of manufacturers specification.
B16: The entire piping system in part or as a whole has to be tested to a hydraulic test pressure of 7 kg/sq.cm for a period of not less than 24 hours. the piping shall be concealed after satisfactory testing of the system.
A17: a | B17: 32mm SCH40 | C17: m | D17: RO
A18: b | B18: 40mm SCH40 | C18: m | D18: RO
A19: c | B19: 50mm SCH40 | C19: m | D19: RO
A21: 3 | B21: Gun metal ball valve
B22: Providing & fixing heavy quality Gun metal ball valve of approved make and sizes as mentioned below. The operating ball shall be of SS or brass coated with chrome, set in PTFE or teflon seat with plastic encapsulated operating lever, including testing, making good the leakages etc., complete.
A23: a | B23: 15mm n.b | C23: Nos. | D23: RO
A24: b | B24: 20mm n.b | C24: Nos. | D24: RO
A25: c | B25: 25mm n.b | C25: Nos. | D25: RO
A26: d | B26: 32 mm n.b. | C26: Nos. | D26: RO
A27: e | B27: 40 mm n.b. | C27: Nos. | D27: 1
A28: f | B28: 50 mm n.b. | C28: Nos. | D28: RO
A30: 5 | B30: PVC SWR drainage pipes
B31: Providing & fixing in position under floor against wall in chases PVC SWR drainage pipes & specials of below mentioned joint of approved make conforming to IS:13592 ( 6 kg/sq.cm.) using lubricant as per maufacturer's specification, including cutting the pipes square to the required lengths, necessary excavation, chasing & restoring to the original condition, testing for water tightness etc., (Specials at junctions of lateral pipe & vertical stack must have access doors for inspection). The formation of pipe sockets by heating the pipe shall not be permitted the joints for plain ended pipes shall be made using couplers if necessary. Rate shall also include the cost of GI 'U' clamps to be provided at not more than 1.5m c/c for Horizontal pipes. The GI 'U' clamps shall be made of hot dip galvanised 6mm dia MS rod threaded at both ends and of length to suit the secure fixing of the pipe on the bracket of the clamping system with necesary nuts, plate washers and rubber insertions etc., complete.
A32: i | B32: Type 'B' - Solvent cement joint
A33: a | B33: 75 mm OD | C33: m | D33: 25
A34: b | B34: 110 mm OD | C34: m | D34: 32
A36: 6 | B36: Rigid PVC Pipes PN6 - Solvent cement joint
B37: Providing & fixing in position under floor against wall in chases Rigid PVC Pipes, specials of make as mentioned below of approved make conforming to IS:4985 using lubricant as per manufacturer's specification, including cutting the pipes square to the required lengths, necessary excavation, chasing & restoring to the original condition, testing for water tightness etc., (Specials at junctions of lateral pipe & vertical stack must have access doors for inspection). The formation of pipe sockets by heating the pipe shall not be permitted the joints for plain ended pipes shall be made using couplers if necessary etc., complete.
A38: a | B38: 40 mm OD - Internal piping | C38: m | D38: RO
A39: b | B39: 50 mm OD - Internal piping | C39: m | D39: RO
A41: 7 | B41: PVC floor trap with CP Grating
B42: Supply and fixing SWR PVC multi floor traps of 75mm outlet with necessary water proofing after fixing and CP gratings, of approved make of size 100mm/125mm with square flat cut slotted top grating, including setting the frame using CM 1:1 and finishing the surface of the frame with a depression from the tile level etc., complete. | C42: Nos. | D42: 8
A44: 8 | B44: Urinal trap with Grating
B45: Supply and fixing SWR PVC URINAL traps of `P' or `S' type with SS grating (heavy quality hopper type with frame) and 75mm outlet with necessary water proofing after fixing. | C45: Nos. | D45: 3
A47: 9 | B47: Core cutting in slab & beams
B48: Making below mentoned size openings in 150 or 200mm mm thick RC slabs/beams using core cutters having diamond edged core bits and redoing the same after fixing of pipes with PVC rings / grouting with non-shrink grouts etc., complete including ensuring water tightness of the system.
...

Sheet P-3 EXT WS
A1: =ABS!A1:D1 -> Proposed Kannada Medium Building For Rashtrotthana Vidyalaya, Hagaribommanahalli, Hospet Dist, Karnataka.
A2: PLUMBING & SANITARY SYSTEM BOQ
A3: Sl. No | B3: Description of Items | C3: Unit | D3: Qty | E3: Rate | F3: Amount
A4: PART-3 | B4: EXTERNAL WATER SUPPLY PIPING
A6: 1 | B6: CPVC pipes for Domestic water
B7: Supplying and fixing CPVC pipes with solvent joints including fixing like tees, elbows, bends, reducers, coupling, running joints, union flanges etc., with necessary excavation in all types of soils except rock requiring blasting, refilling chasing walls, chasing masonry and making good the walls and floors to the original surface ans fixing CPVC clamps on walls including cost and conveyance of all materials to site, labor charges, sales and other taxes on all materials etc., complete for finished item of work for all floors.
B8: The entire piping system in part or as a whole has to be tested to a hydraulic test pressure of 7 kg/sq.cm for a period of not less than 24 hours. the piping shall be concealed / commissioned only after satisfactory testing of the system.
A9: i | B9: cPVC SDR11
A10: a | B10: 20 mm n.b. | C10: m | D10: 10
A11: b | B11: 25 mm n.b. | C11: m | D11: 5
A12: c | B12: 32 mm n.b. | C12: m | D12: 45
A13: d | B13: 40 mm n.b. | C13: m | D13: 20
A14: e | B14: 50 mm n.b. | C14: m | D14: RO
A16: 2 | B16: Gun metal ball valve
B17: Providing & fixing heavy quality Gun metal ball valve of approved make and sizes as mentioned below. The operating ball shall be of SS or brass coated with chrome, set in PTFE or teflon seat with plastic encapsulated operating lever, including testing, making good the leakages etc., complete.
A18: a | B18: 15mm n.b | C18: Nos. | D18: RO
A19: b | B19: 20mm n.b | C19: Nos. | D19: 1
A20: c | B20: 25mm n.b | C20: Nos. | D20: RO
A21: d | B21: 32 mm n.b. | C21: Nos. | D21: 2
A22: e | B22: 40 mm n.b. | C22: Nos. | D22: 1
A23: f | B23: 50 mm n.b. | C23: Nos. | D23: RO
A25: 3 | B25: Axial action type screwed reflux valve
B26: Providing & fixing axial action type screwed reflux valve (multi directional non return valve) of approved make and sizes as mentioned below, body of the valve shall be of forged brass, valve made of engineering plastic loaded with SS spring with NBR valve seat.
A27: a | B27: 25 mm n.b. | C27: Nos. | D27: RO
A28: b | B28: 32 mm n.b. | C28: Nos. | D28: 2
A29: c | B29: 50 mm n.b. | C29: Nos. | D29: RO
A30: d | B30: 65 mm n.b. | C30: Nos. | D30: RO
A32: 4 | B32: Air vent
B33: Providing, fixing in position air vent of approved make with body made of brass and float ball and other moving parts of stainless steel.
A34: a | B34: 15 mm n.b | C34: Nos. | D34: 1
A36: 5 | B36: Earthwork excavation for trenches in all kinds of soil to correct grade, level, including dressing of sides, ramming of bottom, shoring, strutting, dewatering, wherever necessary, backfilling with selected excavated earth, watering, consolidating in layers for all lifts & lead involved in the work. | C36: m3 | D36: 5
A38: 6 | B38: Providing & Fixing pipe support system for pipes using Galvanized MS sheet metal brackets of 3 No. per floor of length upto 0.9m. The brackets shall be fixed to the wall at all levels at a distance not less than 2.5m c/c at all heights upto 10m above ground level with necessary scaffolding as necessary with 2 Nos of 8mm expansion fasteners having a safe working load of 150kg each with necessary nuts, washers etc.,complete. The brackets shall be installed true to plumb vertically with necessary insertions, spacer blocks etc as required etc., complete. The clamps shall be painted with 2 coats of approved synthetic enamel paint over a coat approved metal primer. | C38: Kg | D38: 10
B39: Note: The length of the bracket shall be equal to the sum of the outer diameters of all pipe and 50mm for working space per pipe of size 15 to 75mm and 100mm for working space per pipe for pipes of size 75mm and above diameters.
A41: 7 | B41: Providing support blocks of size 300 x 300 x 150 mm of PCC 1:3:6 at every 1.5 m c/c or at junctions, with MS brackets of 5 mm thick and 40 mm long etc., complete | C41: Nos. | D41: 5
A43: 8 | B43: Providing, Fixing in position of polyethylene water storage tank, IS : 12701 marked, with cover and suitable locking arrangement and making necessary holes for inlet, outlet and overflow pipes but without fittings and the base support for tank.
B44: Capacity: 3,000lts | C44: Nos | D44: 1
B46: Total for Part - 3 | C46: Rs.

Sheet P-4 EXT SAN
A1: =ABS!A1:D1 -> Proposed Kannada Medium Building For Rashtrotthana Vidyalaya, Hagaribommanahalli, Hospet Dist, Karnataka.
A2: PLUMBING & SANITARY SYSTEM BOQ
A3: Sl. No | B3: Description of Items | C3: Unit | D3: Qty | E3: Rate | F3: Amount
A4: PART-4 | B4: EXTERNAL SANITARY PIPING
A5: 1 | B5: PVC SWR drainage pipes - Type 'B'
B6: Providing & fixing in position under floor against wall in chases PVC SWR drainage pipes & specials of below mentioned joint of approved make conforming to IS:13592 Type 'B' ( 6 kg/sq.cm.) using lubricant as per maufacturer's specification, including cutting the pipes square to the required lengths, necessary excavation, chasing & restoring to the original condition, testing for water tightness etc., (Specials at junctions of lateral pipe & vertical stack must have access doors for inspection). The formation of pipe sockets by heating the pipe shall not be permitted the joints for plain ended pipes shall be made using couplers if necessary. Rate shall also include the cost of GI 'U' clamps to be provided at not more than 2.5m c/c for vertical pipes. The GI 'U' clamps shall be made of hot dip galvanised 6mm dia MS rod threaded at both ends and of length to suit the secure fixing of the pipe on the bracket of the clamping system with necesary nuts, plate washers and rubber insertions etc., complete.
A7: i | B7: Type 'B' - Rubber ring joint
A8: b | B8: 75 mm OD | C8: m | D8: 8
A9: c | B9: 110 mm OD | C9: m | D9: 8
A11: 2 | B11: Cellular structure PVC ECO drain pipe
B12: Providing & fixing in position under floor against wall in chases cellular structure PVC ECO drain pipe of ring stiffness SN 4KN/m2, specials of make as mentioned below of approved make using lubricant as per manufacturer's specification, including cutting the pipes square to the required lengths, necessary excavation, chasing & restoring to the original condition, testing for water tightness etc., (Specials at junctions of lateral pipe & vertical stack must have access doors for inspection). The formation of pipe sockets by heating the pipe shall not be permitted the joints for plain ended pipes shall be made using couplers if necessary etc., complete.
A13: a | B13: 160 mm OD | C13: m | D13: 15
A15: 3 | B15: Earthwork excavation
B16: Earthwork excavation for trenches in all kinds of soil to correct grade, level, including dressing of sides, ramming of bottom, shoring, strutting, dewatering, wherever necessary, backfilling with selected excavated earth, watering, consolidating in layers for all lifts & lead involved in the work. | C16: m3 | D16: =(D13)*0.3*0.9 -> 4.05
A18: 4 | B18: PVC Bottle gully trap
B19: Providing & fixing best quality PVC Bottle gully trap of size 160 mm circular with 110 mm outlet with funnel arrangement, embedded in plain cement concrete 1:4:8 (20 mm metal), providing & fixing 100 mm square CI grating on top of the trap, all the above encased in a chamber of 300 x 300 mm built with 115 mm thick brick masonry using first class country bricks in CM 1:4 over a bed of CC 1:3:6 using 40 mm down size metal 100 mm thick, plastering with CM 1:4, 12 mm thick inside, exposed to surface, finished smooth with a floating coat of neat cement, external plastering rough finish of 20mm thick in CM 1:3. | C19: Nos. | D19: 1
B20: Supplying, fixing, testing and commissioning of 300x300mm FRP cover for existing Gully trap. (Gully trap covers Heavy Duty (HD 20) - 20 Ton).
B21: Complete all as specified & directed with approved fittings.
A23: 5 | B23: Construction of inspection chamber of internal clear dimension of below mentioned in 230mm thick brick masonry using first class country brick in CM 1:4, over a bed of 150mm thick CC 1:3:6 (20mm metal) & projecting 150mm alround, plastering with CM 1:3, 12mm thick on internal, external, top surface, finished smooth with a floating coat of neat cement, external plastering rough finish of 20mm thick in CM 1:3. CC 1:2:4 for benching, channeling, FRP cover for Inspection chambers. (Inspection Chamber Covers Medium Duty (MD10) - 10 Ton).
A24: a | B24: 450x450mm with FRP cover | C24: Nos. | D24: 1
A25: b | B25: 600x600mm with FRP cover | C25: Nos. | D25: 1
A26: c | B26: 900x900mm with FRP cover | C26: Nos. | D26: RO
B28: Total for Part - 4 | C28: Rs.

Sheet P-5 RW
A1: =ABS!A1:D1 -> Proposed Kannada Medium Building For Rashtrotthana Vidyalaya, Hagaribommanahalli, Hospet Dist, Karnataka.
A2: PLUMBING & SANITARY SYSTEM BOQ
A3: Sl. No | B3: Description of Items | C3: Unit | D3: Qty | E3: Rate | F3: Amount
A4: PART-5 | B4: RAIN WATER & STORM WATER SYSTEM
A6: 1 | B6: Side wall parapet grating
B7: Providing and fixing in position Side wall parapet grating made of CI body with Aluminium grate and four SS screws to fit for inlet of rain water pipes at terrace level in CM 1:2, including making bores in the roof, setting in position and forming smooth rain water inlet gutter to direct rain water into the rain water pipe etc., complete all as specified and directed.
A8: a | B8: 75 mm Outlet | C8: Nos. | D8: RO
A9: b | B9: 110 mm Outlet | C9: Nos. | D9: 4
A11: 2 | B11: PVC SWR drainage pipes
B12: Providing & fixing in position under floor against wall in chases PVC SWR drainage pipes & specials of solvent cement joint of approved make conforming to IS:13592 Type 'A' ( 6 kg/sq.cm.) using lubricant as per maufacturer's specification, including cutting the pipes square to the required lengths, necessary excavation, chasing & restoring to the original condition, testing for water tightness etc., (Specials at junctions of lateral pipe & vertical stack must have access doors for inspection). The formation of pipe sockets by heating the pipe shall not be permitted the joints for plain ended pipes shall be made using couplers if necessary. Rate shall also include the cost of GI 'U' clamps to be provided at not more than 2.5m c/c for vertical pipes. The GI 'U' clamps shall be made of hot dip galvanised 6mm dia MS rod threaded at both ends and of length to suit the secure fixing of the pipe on the bracket of the clamping system with necesary nuts, plate washers and rubber insertions etc., complete.
B13: Type 'A' - Rubber ring joint
A14: a | B14: 75 mm OD | C14: m | D14: 3
A15: b | B15: 110 mm OD | C15: m | D15: 30
A17: 3 | B17: DWC pipe
B18: Providing & fixing in position under floor against wall in chases Double wall corrugated pipes & fittings confirming to IS 16098 SN 4KN/m2, specials of make as mentioned below of approved make using lubricant as per manufacturer's specification, including cutting the pipes square to the required lengths, necessary excavation, chasing & restoring to the original condition, testing for water tightness etc., (Specials at junctions of lateral pipe & vertical stack must have access doors for inspection). The formation of pipe sockets by heating the pipe shall not be permitted the joints for plain ended pipes shall be made using couplers if necessary etc., complete.
A19: a | B19: 160mm OD | C19: m | D19: RO
A20: b | B20: 200mm OD | C20: m | D20: RO
A21: b | B21: 300mm OD | C21: m | D21: RO
A23: 4 | B23: Constructing rain water collection chamber of internal clear dimensions as mentioned below, in 230 mm thick brick masonry using first class table moulded bricks of approved quality in CM 1:3 over a bed of 150 mm thick CC 1:2:4 with 150 mm wide projection beyond the wall face, fixing inlet, outlet pipe connections in CC 1:2:4, outlet to be 300 mm above the bed level, plastering with CM 1:2, 12 mm thick on internal, external, top surfaces, inside and exposed top surfaces finished smooth with a floating coat of neat cement.
A24: a | B24: Chamber size of 450x450mm upto 600mm deep | C24: Nos. | D24: RO
A25: b | B25: Chamber size of 600x600mm upto 900mm deep | C25: Nos. | D25: RO
A27: 5 | B27: Supplying, fixing, testing and commissioning of FRP Grating Cover of below mentioned sizes for Rain water and Grease trap chambers.( Rain water chambers Medium Duty (HD 10) - 10 Ton).
A28: a | B28: Cover size of 450x450 | C28: Nos. | D28: =D24 -> RO
A29: b | B29: Cover size of 600x600 | C29: Nos. | D29: RO
A31: 6 | B31: Recharge wells.
B32: Constructing Rain water harvesting well of 1.2m dia inner clear dimension, 6m deep using RC well rings, including, necessary excavation for all depths, including placing coarse filter consisting of 40-75mm graded size stone metal 150mm thick, beyond the well steining and 100mm thick fine filter consisting of coarse riser sand placed between natural excavated earth and coarse filter. The well shall be covered on top with 100mm thick RC slab M20 grade with necessary steel reinforcement of 10mm dia TOR steel at 200mm c/c both ways. The top slab shall have a 600x600 size MS hinged grating type frame and cover with lockable arrangement. | C32: Nos. | D32: RO
A34: 7 | B34: Earthwork excavation
B35: Earthwork excavation for trenches in all kinds of soil to correct grade, level, including dressing of sides, ramming of bottom, shoring, strutting, dewatering, wherever necessary, backfilling with selected excavated earth, watering, consolidating in layers for all lifts & lead involved in the work. | C35: m3 | D35: RO
B37: Total for Part - 7 | C37: Rs.

Sheet P-6 PUMPS
A1: =ABS!A1:D1 -> Proposed Kannada Medium Building For Rashtrotthana Vidyalaya, Hagaribommanahalli, Hospet Dist, Karnataka.
A2: PLUMBING & SANITARY SYSTEM BOQ
A3: Sl. No | B3: Description of Items | C3: Unit | D3: Qty | E3: Rate | F3: Amount
A4: PART-6 | B4: PUMPS AND EQUIPMENTS
A6: 1 | B6: Domestic water OHT Transfer pump
B7: Supplying, installing, testing and commissioning of submersible pump, of adequate HP capable of giving a required discharge at suitable head, to work on 3PH 50 hz, 400 /440 V with necessary unions, flanges etc., complete.,with wiring from TPN switch to control panel and to the pumps etc., complete(1No. Working and 1No. stand by). To pump Domestic water from Sump to OHT | C7: Set. | D7: 1
B8: Flow rate - 2.0 lps
B9: Delivery head - 22m
A11: 2 | B11: Water level controller for OHT Transfer.
B12: Providing and fixing micro processor based water level controller suitable for one three phase pump, digital display of water level in the sump, overhead tank, trigger for automatic operation of pumpset when the water level reaches low level in the over head tank. The unit shall have audio - visual alarm for indicating low level in sump, pump failure and motor dry run protection with a current sensor. Including fixing necessary stainless steel sensors, float level switch, probes, etc. The control cabling from panel to sump, sump to over head tank, making connections from the level controller to the pump starter, necessary conduiting shall have to be done by qualified electrical contractor only. | C12: Nos | D12: 1
B13: Distance for sensor cabling & Conduiting | C13: Rmt | D13: 80
B15: Total for Part - 6 | C15: Rs.
